BEGIN:VCALENDAR
VERSION:2.0
PRODID:-//appserver-92315f17-nginx-f1971364e2fd47629192f0e8040889e1//NONSGM
 L kigkonsult.se iCalcreator 2.26.9//
CALSCALE:GREGORIAN
METHOD:PUBLISH
X-FROM-URL:https://791.cupe.ca
X-WR-TIMEZONE:America/Toronto
BEGIN:VTIMEZONE
TZID:America/Toronto
X-LIC-LOCATION:America/Toronto
BEGIN:STANDARD
DTSTART:20251102T020000
TZOFFSETFROM:-0400
TZOFFSETTO:-0500
RDATE:20261101T020000
TZNAME:EST
END:STANDARD
BEGIN:DAYLIGHT
DTSTART:20260308T020000
TZOFFSETFROM:-0500
TZOFFSETTO:-0400
RDATE:20270314T020000
TZNAME:EDT
END:DAYLIGHT
END:VTIMEZONE
BEGIN:VEVENT
UID:ai1ec-1314@791.cupe.ca
DTSTAMP:20260421T160619Z
CATEGORIES:
CONTACT:
DTSTART;VALUE=DATE:20231023
DTEND;VALUE=DATE:20231028
LOCATION:Convention Centre @ Quebec City
SUMMARY:CUPE National Convention
URL:https://791.cupe.ca/event/cupe-national-convention-2/
X-COST-TYPE:free
END:VEVENT
BEGIN:VEVENT
UID:ai1ec-1300@791.cupe.ca
DTSTAMP:20260421T160619Z
CATEGORIES:
CONTACT:
DTSTART;TZID=America/Toronto:20230912T173000
DTEND;TZID=America/Toronto:20230912T190000
SUMMARY:September GMM Zoom Meeting
URL:https://791.cupe.ca/event/september-gmm-zoom-meeting/
X-COST-TYPE:free
END:VEVENT
BEGIN:VEVENT
UID:ai1ec-1307@791.cupe.ca
DTSTAMP:20260421T160619Z
CATEGORIES:
CONTACT:
DTSTART;TZID=America/Toronto:20231002T173000
DTEND;TZID=America/Toronto:20231002T190000
SUMMARY:October Executive Meeting
URL:https://791.cupe.ca/event/october-executive-meeting/
X-COST-TYPE:free
END:VEVENT
BEGIN:VEVENT
UID:ai1ec-1308@791.cupe.ca
DTSTAMP:20260421T160619Z
CATEGORIES:
CONTACT:
DTSTART;TZID=America/Toronto:20231010T173000
DTEND;TZID=America/Toronto:20231010T193000
SUMMARY:October GMM Zoom Meeting
URL:https://791.cupe.ca/event/october-gmm-zoom-meeting/
X-COST-TYPE:free
END:VEVENT
BEGIN:VEVENT
UID:ai1ec-1312@791.cupe.ca
DTSTAMP:20260421T160619Z
CATEGORIES:
CONTACT:
DTSTART;TZID=America/Toronto:20231106T173000
DTEND;TZID=America/Toronto:20231106T190000
SUMMARY:November Executive Meeting
URL:https://791.cupe.ca/event/november-executive-meeting/
X-COST-TYPE:free
END:VEVENT
BEGIN:VEVENT
UID:ai1ec-1336@791.cupe.ca
DTSTAMP:20260421T160619Z
CATEGORIES:
CONTACT:
DTSTART;TZID=America/Toronto:20231114T173000
DTEND;TZID=America/Toronto:20231114T190000
SUMMARY:March GMM Zoom Meeting
URL:https://791.cupe.ca/event/march-gmm-zoom-meeting/
X-COST-TYPE:free
END:VEVENT
BEGIN:VEVENT
UID:ai1ec-1309@791.cupe.ca
DTSTAMP:20260421T160619Z
CATEGORIES:
CONTACT:
DTSTART;TZID=America/Toronto:20231114T173000
DTEND;TZID=America/Toronto:20231114T193000
SUMMARY:November GMM Zoom Meeting
URL:https://791.cupe.ca/event/november-gmm-zoom-meeting/
X-COST-TYPE:free
END:VEVENT
BEGIN:VEVENT
UID:ai1ec-1313@791.cupe.ca
DTSTAMP:20260421T160619Z
CATEGORIES:
CONTACT:
DTSTART;TZID=America/Toronto:20231204T173000
DTEND;TZID=America/Toronto:20231204T190000
SUMMARY:December Executive Meeting
URL:https://791.cupe.ca/event/december-executive-meeting-2/
X-COST-TYPE:free
END:VEVENT
BEGIN:VEVENT
UID:ai1ec-1310@791.cupe.ca
DTSTAMP:20260421T160619Z
CATEGORIES:
CONTACT:
DTSTART;TZID=America/Toronto:20231212T173000
DTEND;TZID=America/Toronto:20231212T193000
SUMMARY:December GMM Zoom Meeting
URL:https://791.cupe.ca/event/december-gmm-zoom-meeting/
X-COST-TYPE:free
END:VEVENT
BEGIN:VEVENT
UID:ai1ec-1303@791.cupe.ca
DTSTAMP:20260421T160619Z
CATEGORIES:
CONTACT:
DTSTART;TZID=America/Toronto:20231216T180000
DTEND;TZID=America/Toronto:20231217T010000
SUMMARY:CUPE 791 Year end – Holiday Party
URL:https://791.cupe.ca/event/cupe-791-year-end-holiday-party/
X-COST-TYPE:free
END:VEVENT
BEGIN:VEVENT
UID:ai1ec-1330@791.cupe.ca
DTSTAMP:20260421T160619Z
CATEGORIES:
CONTACT:
DTSTART;TZID=America/Toronto:20240108T173000
DTEND;TZID=America/Toronto:20240108T190000
SUMMARY:January Executive Meeting
URL:https://791.cupe.ca/event/january-executive-meeting/
X-COST-TYPE:free
END:VEVENT
BEGIN:VEVENT
UID:ai1ec-1332@791.cupe.ca
DTSTAMP:20260421T160619Z
CATEGORIES:
CONTACT:
DTSTART;TZID=America/Toronto:20240109T173000
DTEND;TZID=America/Toronto:20240109T190000
SUMMARY:January GMM Zoom Meeting
URL:https://791.cupe.ca/event/january-gmm-zoom-meeting/
X-COST-TYPE:free
END:VEVENT
BEGIN:VEVENT
UID:ai1ec-1333@791.cupe.ca
DTSTAMP:20260421T160619Z
CATEGORIES:
CONTACT:
DTSTART;TZID=America/Toronto:20240205T173000
DTEND;TZID=America/Toronto:20240205T190000
SUMMARY:February Executive Meeting
URL:https://791.cupe.ca/event/february-executive-meeting/
X-COST-TYPE:free
END:VEVENT
BEGIN:VEVENT
UID:ai1ec-1334@791.cupe.ca
DTSTAMP:20260421T160619Z
CATEGORIES:
CONTACT:
DTSTART;TZID=America/Toronto:20240213T173000
DTEND;TZID=America/Toronto:20240213T190000
SUMMARY:February GMM Zoom Meeting
URL:https://791.cupe.ca/event/february-gmm-zoom-meeting/
X-COST-TYPE:free
END:VEVENT
BEGIN:VEVENT
UID:ai1ec-1335@791.cupe.ca
DTSTAMP:20260421T160619Z
CATEGORIES:
CONTACT:
DTSTART;TZID=America/Toronto:20240304T173000
DTEND;TZID=America/Toronto:20240304T190000
SUMMARY:March Executive Meeting
URL:https://791.cupe.ca/event/march-executive-meeting/
X-COST-TYPE:free
END:VEVENT
BEGIN:VEVENT
UID:ai1ec-1354@791.cupe.ca
DTSTAMP:20260421T160619Z
CATEGORIES:
CONTACT:
DTSTART;TZID=America/Toronto:20240319T173000
DTEND;TZID=America/Toronto:20240319T190000
SUMMARY:March GMM Zoom Meeting
URL:https://791.cupe.ca/event/march-gmm-zoom-meeting-2/
X-COST-TYPE:free
END:VEVENT
BEGIN:VEVENT
UID:ai1ec-1337@791.cupe.ca
DTSTAMP:20260421T160619Z
CATEGORIES:
CONTACT:
DTSTART;TZID=America/Toronto:20240402T173000
DTEND;TZID=America/Toronto:20240402T190000
SUMMARY:April Executive Meeting
URL:https://791.cupe.ca/event/april-executive-meeting/
X-COST-TYPE:free
END:VEVENT
BEGIN:VEVENT
UID:ai1ec-1338@791.cupe.ca
DTSTAMP:20260421T160619Z
CATEGORIES:
CONTACT:
DTSTART;TZID=America/Toronto:20240416T173000
DTEND;TZID=America/Toronto:20240416T190000
SUMMARY:April GMM Zoom Meeting
URL:https://791.cupe.ca/event/april-gmm-zoom-meeting/
X-COST-TYPE:free
END:VEVENT
BEGIN:VEVENT
UID:ai1ec-1339@791.cupe.ca
DTSTAMP:20260421T160619Z
CATEGORIES:
CONTACT:
DTSTART;TZID=America/Toronto:20240506T173000
DTEND;TZID=America/Toronto:20240506T190000
SUMMARY:May Executive Meeting
URL:https://791.cupe.ca/event/may-executive-meeting/
X-COST-TYPE:free
END:VEVENT
BEGIN:VEVENT
UID:ai1ec-1340@791.cupe.ca
DTSTAMP:20260421T160619Z
CATEGORIES:
CONTACT:
DTSTART;TZID=America/Toronto:20240514T173000
DTEND;TZID=America/Toronto:20240514T190000
SUMMARY:May GMM Zoom Meeting
URL:https://791.cupe.ca/event/may-gmm-zoom-meeting/
X-COST-TYPE:free
END:VEVENT
BEGIN:VEVENT
UID:ai1ec-1344@791.cupe.ca
DTSTAMP:20260421T160619Z
CATEGORIES:
CONTACT:
DTSTART;TZID=America/Toronto:20240603T173000
DTEND;TZID=America/Toronto:20240603T190000
SUMMARY:June Executive Meeting
URL:https://791.cupe.ca/event/june-executive-meeting/
X-COST-TYPE:free
END:VEVENT
BEGIN:VEVENT
UID:ai1ec-1345@791.cupe.ca
DTSTAMP:20260421T160619Z
CATEGORIES:
CONTACT:
DTSTART;TZID=America/Toronto:20240611T173000
DTEND;TZID=America/Toronto:20240611T190000
SUMMARY:June GMM Zoom Meeting
URL:https://791.cupe.ca/event/june-gmm-zoom-meeting/
X-COST-TYPE:free
END:VEVENT
BEGIN:VEVENT
UID:ai1ec-1346@791.cupe.ca
DTSTAMP:20260421T160619Z
CATEGORIES:
CONTACT:
DTSTART;TZID=America/Toronto:20240909T173000
DTEND;TZID=America/Toronto:20240909T190000
SUMMARY:September Executive Meeting
URL:https://791.cupe.ca/event/september-executive-meeting/
X-COST-TYPE:free
END:VEVENT
BEGIN:VEVENT
UID:ai1ec-1347@791.cupe.ca
DTSTAMP:20260421T160619Z
CATEGORIES:
CONTACT:
DTSTART;TZID=America/Toronto:20240910T173000
DTEND;TZID=America/Toronto:20240910T190000
SUMMARY:September GMM Zoom Meeting
URL:https://791.cupe.ca/event/september-gmm-zoom-meeting-2/
X-COST-TYPE:free
END:VEVENT
BEGIN:VEVENT
UID:ai1ec-1348@791.cupe.ca
DTSTAMP:20260421T160619Z
CATEGORIES:
CONTACT:
DTSTART;TZID=America/Toronto:20240930T173000
DTEND;TZID=America/Toronto:20240930T190000
SUMMARY:October Executive Meeting
URL:https://791.cupe.ca/event/october-executive-meeting-2/
X-COST-TYPE:free
END:VEVENT
BEGIN:VEVENT
UID:ai1ec-1355@791.cupe.ca
DTSTAMP:20260421T160619Z
CATEGORIES:
CONTACT:
DTSTART;TZID=America/Toronto:20241008T173000
DTEND;TZID=America/Toronto:20241008T190000
SUMMARY:October GMM Zoom Meeting
URL:https://791.cupe.ca/event/october-gmm-zoom-meeting-2/
X-COST-TYPE:free
END:VEVENT
BEGIN:VEVENT
UID:ai1ec-1350@791.cupe.ca
DTSTAMP:20260421T160619Z
CATEGORIES:
CONTACT:
DTSTART;TZID=America/Toronto:20241104T173000
DTEND;TZID=America/Toronto:20241104T190000
SUMMARY:November Executive Meeting
URL:https://791.cupe.ca/event/november-executive-meeting-2/
X-COST-TYPE:free
END:VEVENT
BEGIN:VEVENT
UID:ai1ec-1351@791.cupe.ca
DTSTAMP:20260421T160619Z
CATEGORIES:
CONTACT:
DTSTART;TZID=America/Toronto:20241112T173000
DTEND;TZID=America/Toronto:20241112T190000
SUMMARY:November GMM Zoom Meeting
URL:https://791.cupe.ca/event/november-gmm-zoom-meeting-2/
X-COST-TYPE:free
END:VEVENT
BEGIN:VEVENT
UID:ai1ec-1352@791.cupe.ca
DTSTAMP:20260421T160619Z
CATEGORIES:
CONTACT:
DTSTART;TZID=America/Toronto:20241202T173000
DTEND;TZID=America/Toronto:20241202T190000
SUMMARY:December Executive Meeting
URL:https://791.cupe.ca/event/december-executive-meeting-3/
X-COST-TYPE:free
END:VEVENT
BEGIN:VEVENT
UID:ai1ec-1353@791.cupe.ca
DTSTAMP:20260421T160619Z
CATEGORIES:
CONTACT:
DTSTART;TZID=America/Toronto:20241210T170000
DTEND;TZID=America/Toronto:20241210T190000
SUMMARY:December GMM Zoom Meeting
URL:https://791.cupe.ca/event/december-gmm-zoom-meeting-2/
X-COST-TYPE:free
END:VEVENT
BEGIN:VEVENT
UID:ai1ec-1395@791.cupe.ca
DTSTAMP:20260421T160619Z
CATEGORIES:
CONTACT:
DTSTART;TZID=America/Toronto:20250106T173000
DTEND;TZID=America/Toronto:20250106T190000
SUMMARY:January Executive Meeting  – Zoom
URL:https://791.cupe.ca/event/january-executive-meeting-zoom/
X-COST-TYPE:free
END:VEVENT
BEGIN:VEVENT
UID:ai1ec-1389@791.cupe.ca
DTSTAMP:20260421T160619Z
CATEGORIES:
CONTACT:
DTSTART;TZID=America/Toronto:20250114T173000
DTEND;TZID=America/Toronto:20250114T190000
SUMMARY:January General Membership Meeting  – Zoom
URL:https://791.cupe.ca/event/january-general-membership-meeting-zoom/
X-COST-TYPE:free
END:VEVENT
BEGIN:VEVENT
UID:ai1ec-1396@791.cupe.ca
DTSTAMP:20260421T160619Z
CATEGORIES:
CONTACT:
DTSTART;TZID=America/Toronto:20250203T173000
DTEND;TZID=America/Toronto:20250203T190000
SUMMARY:February Executive Meeting  – Zoom
URL:https://791.cupe.ca/event/february-executive-meeting-zoom/
X-COST-TYPE:free
END:VEVENT
BEGIN:VEVENT
UID:ai1ec-1390@791.cupe.ca
DTSTAMP:20260421T160619Z
CATEGORIES:
CONTACT:
DTSTART;TZID=America/Toronto:20250212T180000
DTEND;TZID=America/Toronto:20250212T210000
LOCATION:Kitchener Memorial Auditorium @ 400 East Ave Kitchener
SUMMARY:Bargaining Proposal Meeting – COK
URL:https://791.cupe.ca/event/february-general-membership-meeting-zoom/
X-COST-TYPE:free
END:VEVENT
BEGIN:VEVENT
UID:ai1ec-1397@791.cupe.ca
DTSTAMP:20260421T160619Z
CATEGORIES:
CONTACT:
DTSTART;TZID=America/Toronto:20250303T173000
DTEND;TZID=America/Toronto:20250303T190000
SUMMARY:March Executive Meeting  – Zoom
URL:https://791.cupe.ca/event/march-executive-meeting-zoom/
X-COST-TYPE:free
END:VEVENT
BEGIN:VEVENT
UID:ai1ec-1391@791.cupe.ca
DTSTAMP:20260421T160619Z
CATEGORIES:
CONTACT:
DTSTART;TZID=America/Toronto:20250311T173000
DTEND;TZID=America/Toronto:20250311T190000
SUMMARY:March General Membership Meeting  – Zoom
URL:https://791.cupe.ca/event/march-general-membership-meeting-zoom/
X-COST-TYPE:free
END:VEVENT
BEGIN:VEVENT
UID:ai1ec-1398@791.cupe.ca
DTSTAMP:20260421T160619Z
CATEGORIES:
CONTACT:
DTSTART;TZID=America/Toronto:20250407T173000
DTEND;TZID=America/Toronto:20250407T190000
SUMMARY:April Executive Meeting  – Zoom
URL:https://791.cupe.ca/event/april-executive-meeting-zoom/
X-COST-TYPE:free
END:VEVENT
BEGIN:VEVENT
UID:ai1ec-1392@791.cupe.ca
DTSTAMP:20260421T160619Z
CATEGORIES:
CONTACT:
DTSTART;TZID=America/Toronto:20250408T173000
DTEND;TZID=America/Toronto:20250408T190000
SUMMARY:April General Membership Meeting  – Zoom
URL:https://791.cupe.ca/event/april-general-membership-meeting-zoom/
X-COST-TYPE:free
END:VEVENT
BEGIN:VEVENT
UID:ai1ec-1399@791.cupe.ca
DTSTAMP:20260421T160619Z
CATEGORIES:
CONTACT:
DTSTART;TZID=America/Toronto:20250505T173000
DTEND;TZID=America/Toronto:20250505T190000
SUMMARY:May Executive Meeting  – Zoom
URL:https://791.cupe.ca/event/may-executive-meeting-zoom/
X-COST-TYPE:free
END:VEVENT
BEGIN:VEVENT
UID:ai1ec-1393@791.cupe.ca
DTSTAMP:20260421T160619Z
CATEGORIES:
CONTACT:
DTSTART;TZID=America/Toronto:20250513T173000
DTEND;TZID=America/Toronto:20250513T190000
SUMMARY:May General Membership Meeting  – Zoom
URL:https://791.cupe.ca/event/may-general-membership-meeting-zoom/
X-COST-TYPE:free
END:VEVENT
BEGIN:VEVENT
UID:ai1ec-1400@791.cupe.ca
DTSTAMP:20260421T160619Z
CATEGORIES:
CONTACT:
DTSTART;TZID=America/Toronto:20250602T173000
DTEND;TZID=America/Toronto:20250602T190000
SUMMARY:June Executive Meeting  – Zoom
URL:https://791.cupe.ca/event/june-executive-meeting-zoom/
X-COST-TYPE:free
END:VEVENT
BEGIN:VEVENT
UID:ai1ec-1394@791.cupe.ca
DTSTAMP:20260421T160619Z
CATEGORIES:
CONTACT:
DTSTART;TZID=America/Toronto:20250610T173000
DTEND;TZID=America/Toronto:20250610T190000
SUMMARY:June General Membership Meeting  – Zoom
URL:https://791.cupe.ca/event/june-general-membership-meeting-zoom/
X-COST-TYPE:free
END:VEVENT
BEGIN:VEVENT
UID:ai1ec-1440@791.cupe.ca
DTSTAMP:20260421T160619Z
CATEGORIES:
CONTACT:
DTSTART;TZID=America/Toronto:20251014T173000
DTEND;TZID=America/Toronto:20251014T193000
SUMMARY:October General Membership Meeting – Zoom
URL:https://791.cupe.ca/event/october-general-membership-meeting-zoom/
X-COST-TYPE:free
END:VEVENT
BEGIN:VEVENT
UID:ai1ec-1443@791.cupe.ca
DTSTAMP:20260421T160619Z
CATEGORIES:
CONTACT:
DTSTART;TZID=America/Toronto:20251103T173000
DTEND;TZID=America/Toronto:20251103T190000
SUMMARY:November Executive Meeting – Zoom
URL:https://791.cupe.ca/event/november-executive-meeting-zoom/
X-COST-TYPE:free
END:VEVENT
BEGIN:VEVENT
UID:ai1ec-1441@791.cupe.ca
DTSTAMP:20260421T160619Z
CATEGORIES:
CONTACT:
DTSTART;TZID=America/Toronto:20251112T173000
DTEND;TZID=America/Toronto:20251112T193000
SUMMARY:November General Membership Meeting – Zoom
URL:https://791.cupe.ca/event/november-general-membership-meeting-zoom/
X-COST-TYPE:free
END:VEVENT
BEGIN:VEVENT
UID:ai1ec-1444@791.cupe.ca
DTSTAMP:20260421T160619Z
CATEGORIES:
CONTACT:
DTSTART;TZID=America/Toronto:20251201T173000
DTEND;TZID=America/Toronto:20251201T193000
SUMMARY:December Executive Meeting – Zoom
URL:https://791.cupe.ca/event/december-executive-meeting-zoom/
X-COST-TYPE:free
END:VEVENT
BEGIN:VEVENT
UID:ai1ec-1442@791.cupe.ca
DTSTAMP:20260421T160619Z
CATEGORIES:
CONTACT:
DTSTART;TZID=America/Toronto:20251209T173000
DTEND;TZID=America/Toronto:20251209T193000
SUMMARY:December General Membership Meeting – Zoom
URL:https://791.cupe.ca/event/december-general-membership-meeting-zoom/
X-COST-TYPE:free
END:VEVENT
BEGIN:VEVENT
UID:ai1ec-1445@791.cupe.ca
DTSTAMP:20260421T160619Z
CATEGORIES:
CONTACT:
DTSTART;TZID=America/Toronto:20260105T173000
DTEND;TZID=America/Toronto:20260105T193000
SUMMARY:January Executive Meeting – Zoom
URL:https://791.cupe.ca/event/january-executive-meeting-zoom-2/
X-COST-TYPE:free
END:VEVENT
BEGIN:VEVENT
UID:ai1ec-1446@791.cupe.ca
DTSTAMP:20260421T160619Z
CATEGORIES:
CONTACT:
DTSTART;TZID=America/Toronto:20260113T173000
DTEND;TZID=America/Toronto:20260113T193000
SUMMARY:January General Membership Meeting – Zoom
URL:https://791.cupe.ca/event/january-general-membership-meeting-zoom-2/
X-COST-TYPE:free
END:VEVENT
END:VCALENDAR
